BEGIN:VCALENDAR
VERSION:2.0
PRODID:-//Cambridge-Narrows Community School - ECPv6.15.20//NONSGML v1.0//EN
CALSCALE:GREGORIAN
METHOD:PUBLISH
X-WR-CALNAME:Cambridge-Narrows Community School
X-ORIGINAL-URL:https://cns.nbed.ca
X-WR-CALDESC:Events for Cambridge-Narrows Community School
REFRESH-INTERVAL;VALUE=DURATION:PT1H
X-Robots-Tag:noindex
X-PUBLISHED-TTL:PT1H
BEGIN:VTIMEZONE
TZID:America/Moncton
BEGIN:DAYLIGHT
TZOFFSETFROM:-0400
TZOFFSETTO:-0300
TZNAME:ADT
DTSTART:20220313T060000
END:DAYLIGHT
BEGIN:STANDARD
TZOFFSETFROM:-0300
TZOFFSETTO:-0400
TZNAME:AST
DTSTART:20221106T050000
END:STANDARD
BEGIN:DAYLIGHT
TZOFFSETFROM:-0400
TZOFFSETTO:-0300
TZNAME:ADT
DTSTART:20230312T060000
END:DAYLIGHT
BEGIN:STANDARD
TZOFFSETFROM:-0300
TZOFFSETTO:-0400
TZNAME:AST
DTSTART:20231105T050000
END:STANDARD
BEGIN:DAYLIGHT
TZOFFSETFROM:-0400
TZOFFSETTO:-0300
TZNAME:ADT
DTSTART:20240310T060000
END:DAYLIGHT
BEGIN:STANDARD
TZOFFSETFROM:-0300
TZOFFSETTO:-0400
TZNAME:AST
DTSTART:20241103T050000
END:STANDARD
END:VTIMEZONE
BEGIN:VEVENT
DTSTART;TZID=America/Moncton:20230223T160000
DTEND;TZID=America/Moncton:20230224T160000
DTSTAMP:20260419T212515
CREATED:20230223T201001Z
LAST-MODIFIED:20230223T201002Z
UID:10000002-1677168000-1677254400@cns.nbed.ca
SUMMARY:Event Post
DESCRIPTION:Testing for a new event post
URL:https://cns.nbed.ca/calendar/event-post/
CATEGORIES:About our School
END:VEVENT
BEGIN:VEVENT
DTSTART;TZID=America/Moncton:20230222T000000
DTEND;TZID=America/Moncton:20230222T235959
DTSTAMP:20260419T212515
CREATED:20230221T201558Z
LAST-MODIFIED:20230221T201559Z
UID:10000001-1677024000-1677110399@cns.nbed.ca
SUMMARY:Pink Shirt Day
DESCRIPTION:
URL:https://cns.nbed.ca/calendar/pink-shirt-day/
END:VEVENT
BEGIN:VEVENT
DTSTART;TZID=America/Moncton:20230220T000000
DTEND;TZID=America/Moncton:20230220T235959
DTSTAMP:20260419T212515
CREATED:20220502T161327Z
LAST-MODIFIED:20220921T131749Z
UID:10000097-1676851200-1676937599@cns.nbed.ca
SUMMARY:Family Day
DESCRIPTION:
URL:https://cns.nbed.ca/calendar/family-day/
END:VEVENT
BEGIN:VEVENT
DTSTART;TZID=America/Moncton:20230109T000000
DTEND;TZID=America/Moncton:20230109T235959
DTSTAMP:20260419T212515
CREATED:20220502T161143Z
LAST-MODIFIED:20220921T131619Z
UID:10000095-1673222400-1673308799@cns.nbed.ca
SUMMARY:First Day of Classes
DESCRIPTION:
URL:https://cns.nbed.ca/calendar/first-day-of-classes-2/
END:VEVENT
END:VCALENDAR