BEGIN:VCALENDAR
VERSION:2.0
PRODID:-//Cambridge-Narrows Community School - ECPv6.15.20//NONSGML v1.0//EN
CALSCALE:GREGORIAN
METHOD:PUBLISH
X-WR-CALNAME:Cambridge-Narrows Community School
X-ORIGINAL-URL:https://cns.nbed.ca
X-WR-CALDESC:Events for Cambridge-Narrows Community School
REFRESH-INTERVAL;VALUE=DURATION:PT1H
X-Robots-Tag:noindex
X-PUBLISHED-TTL:PT1H
BEGIN:VTIMEZONE
TZID:America/Moncton
BEGIN:DAYLIGHT
TZOFFSETFROM:-0400
TZOFFSETTO:-0300
TZNAME:ADT
DTSTART:20230312T060000
END:DAYLIGHT
BEGIN:STANDARD
TZOFFSETFROM:-0300
TZOFFSETTO:-0400
TZNAME:AST
DTSTART:20231105T050000
END:STANDARD
BEGIN:DAYLIGHT
TZOFFSETFROM:-0400
TZOFFSETTO:-0300
TZNAME:ADT
DTSTART:20240310T060000
END:DAYLIGHT
BEGIN:STANDARD
TZOFFSETFROM:-0300
TZOFFSETTO:-0400
TZNAME:AST
DTSTART:20241103T050000
END:STANDARD
BEGIN:DAYLIGHT
TZOFFSETFROM:-0400
TZOFFSETTO:-0300
TZNAME:ADT
DTSTART:20250309T060000
END:DAYLIGHT
BEGIN:STANDARD
TZOFFSETFROM:-0300
TZOFFSETTO:-0400
TZNAME:AST
DTSTART:20251102T050000
END:STANDARD
END:VTIMEZONE
BEGIN:VEVENT
DTSTART;TZID=America/Moncton:20240903T082500
DTEND;TZID=America/Moncton:20240903T151000
DTSTAMP:20260420T161059
CREATED:20240716T140812Z
LAST-MODIFIED:20240716T140812Z
UID:10000271-1725351900-1725376200@cns.nbed.ca
SUMMARY:First Day of School
DESCRIPTION:First day of school will be Tuesday\, September 3.  If your child is in kindergarten\, you will be contacted about staggered entry.
URL:https://cns.nbed.ca/calendar/first-day-of-school/
CATEGORIES:Current Students
END:VEVENT
BEGIN:VEVENT
DTSTART;TZID=America/Moncton:20240904T183000
DTEND;TZID=America/Moncton:20240904T193000
DTSTAMP:20260420T161059
CREATED:20240819T165404Z
LAST-MODIFIED:20240819T165406Z
UID:10000304-1725474600-1725478200@cns.nbed.ca
SUMMARY:Home and School Meeting (online)
DESCRIPTION:If you’d like to be part of our Home and School\, please contact Sabrina at sabie14@hotmail.com.
URL:https://cns.nbed.ca/calendar/home-and-school-meeting-online/
END:VEVENT
BEGIN:VEVENT
DTSTART;TZID=America/Moncton:20240912T120000
DTEND;TZID=America/Moncton:20240912T120000
DTSTAMP:20260420T161059
CREATED:20240716T141028Z
LAST-MODIFIED:20240716T141029Z
UID:10000272-1726142400-1726142400@cns.nbed.ca
SUMMARY:Queens County Fair
DESCRIPTION:Students will be travelling to Gagetown by bus to attend the Queens County Fair.
URL:https://cns.nbed.ca/calendar/queens-county-fair/
END:VEVENT
BEGIN:VEVENT
DTSTART;TZID=America/Moncton:20240918T080000
DTEND;TZID=America/Moncton:20240918T170000
DTSTAMP:20260420T161059
CREATED:20240918T182153Z
LAST-MODIFIED:20240918T182155Z
UID:10000305-1726646400-1726678800@cns.nbed.ca
SUMMARY:SRC Potato Fundraiser begins
DESCRIPTION:
URL:https://cns.nbed.ca/calendar/src-potato-fundraiser-begins/
END:VEVENT
BEGIN:VEVENT
DTSTART;TZID=America/Moncton:20240918T173000
DTEND;TZID=America/Moncton:20240918T193000
DTSTAMP:20260420T161059
CREATED:20240918T182316Z
LAST-MODIFIED:20240918T182340Z
UID:10000306-1726680600-1726687800@cns.nbed.ca
SUMMARY:Meet the Teacher Night
DESCRIPTION:
URL:https://cns.nbed.ca/calendar/928/
END:VEVENT
BEGIN:VEVENT
DTSTART;TZID=America/Moncton:20240923T000000
DTEND;TZID=America/Moncton:20240923T235959
DTSTAMP:20260420T161059
CREATED:20240918T182513Z
LAST-MODIFIED:20240918T182633Z
UID:10000307-1727049600-1727135999@cns.nbed.ca
SUMMARY:Farm to School lunches begin
DESCRIPTION:
URL:https://cns.nbed.ca/calendar/farm-to-school-lunches-begin/
END:VEVENT
BEGIN:VEVENT
DTSTART;TZID=America/Moncton:20240924T000000
DTEND;TZID=America/Moncton:20240924T235959
DTSTAMP:20260420T161059
CREATED:20240918T182551Z
LAST-MODIFIED:20240918T182553Z
UID:10000308-1727136000-1727222399@cns.nbed.ca
SUMMARY:Culinary Meals Begin
DESCRIPTION:
URL:https://cns.nbed.ca/calendar/culinary-meals-begin-2/
END:VEVENT
BEGIN:VEVENT
DTSTART;TZID=America/Moncton:20240926T000000
DTEND;TZID=America/Moncton:20240926T235959
DTSTAMP:20260420T161059
CREATED:20240918T182739Z
LAST-MODIFIED:20240918T182741Z
UID:10000309-1727308800-1727395199@cns.nbed.ca
SUMMARY:K-5 Apple Picking
DESCRIPTION:
URL:https://cns.nbed.ca/calendar/k-5-apple-picking/
END:VEVENT
BEGIN:VEVENT
DTSTART;TZID=America/Moncton:20240926T000000
DTEND;TZID=America/Moncton:20240926T235959
DTSTAMP:20260420T161059
CREATED:20240918T182815Z
LAST-MODIFIED:20240918T182816Z
UID:10000310-1727308800-1727395199@cns.nbed.ca
SUMMARY:Orange Shirt Day
DESCRIPTION:
URL:https://cns.nbed.ca/calendar/orange-shirt-day/
END:VEVENT
BEGIN:VEVENT
DTSTART;TZID=America/Moncton:20240927T000000
DTEND;TZID=America/Moncton:20240927T235959
DTSTAMP:20260420T161059
CREATED:20240918T182935Z
LAST-MODIFIED:20240918T182937Z
UID:10000311-1727395200-1727481599@cns.nbed.ca
SUMMARY:Terry Fox Walk/Run (morning)
DESCRIPTION:
URL:https://cns.nbed.ca/calendar/terry-fox-walk-run-morning/
END:VEVENT
BEGIN:VEVENT
DTSTART;TZID=America/Moncton:20240927T235500
DTEND;TZID=America/Moncton:20240927T235500
DTSTAMP:20260420T161059
CREATED:20240716T142951Z
LAST-MODIFIED:20240716T142952Z
UID:10000273-1727481300-1727481300@cns.nbed.ca
SUMMARY:Whole School Half Day
DESCRIPTION:All students will be dismissed 11:55 am
URL:https://cns.nbed.ca/calendar/whole-school-half-day-2/
CATEGORIES:About our School,Current Students
END:VEVENT
BEGIN:VEVENT
DTSTART;TZID=America/Moncton:20240930T120000
DTEND;TZID=America/Moncton:20240930T120000
DTSTAMP:20260420T161059
CREATED:20240716T143122Z
LAST-MODIFIED:20240716T143123Z
UID:10000274-1727697600-1727697600@cns.nbed.ca
SUMMARY:No School - National Truth & Reconciliation Day
DESCRIPTION:
URL:https://cns.nbed.ca/calendar/no-school-national-truth-reconciliation-day/
END:VEVENT
END:VCALENDAR