BEGIN:VCALENDAR
VERSION:2.0
PRODID:-//Cambridge-Narrows Community School - ECPv6.15.20//NONSGML v1.0//EN
CALSCALE:GREGORIAN
METHOD:PUBLISH
X-WR-CALNAME:Cambridge-Narrows Community School
X-ORIGINAL-URL:https://cns.nbed.ca
X-WR-CALDESC:Events for Cambridge-Narrows Community School
REFRESH-INTERVAL;VALUE=DURATION:PT1H
X-Robots-Tag:noindex
X-PUBLISHED-TTL:PT1H
BEGIN:VTIMEZONE
TZID:America/Moncton
BEGIN:DAYLIGHT
TZOFFSETFROM:-0400
TZOFFSETTO:-0300
TZNAME:ADT
DTSTART:20230312T060000
END:DAYLIGHT
BEGIN:STANDARD
TZOFFSETFROM:-0300
TZOFFSETTO:-0400
TZNAME:AST
DTSTART:20231105T050000
END:STANDARD
BEGIN:DAYLIGHT
TZOFFSETFROM:-0400
TZOFFSETTO:-0300
TZNAME:ADT
DTSTART:20240310T060000
END:DAYLIGHT
BEGIN:STANDARD
TZOFFSETFROM:-0300
TZOFFSETTO:-0400
TZNAME:AST
DTSTART:20241103T050000
END:STANDARD
BEGIN:DAYLIGHT
TZOFFSETFROM:-0400
TZOFFSETTO:-0300
TZNAME:ADT
DTSTART:20250309T060000
END:DAYLIGHT
BEGIN:STANDARD
TZOFFSETFROM:-0300
TZOFFSETTO:-0400
TZNAME:AST
DTSTART:20251102T050000
END:STANDARD
END:VTIMEZONE
BEGIN:VEVENT
DTSTART;TZID=America/Moncton:20241002T000000
DTEND;TZID=America/Moncton:20241002T235959
DTSTAMP:20260420T143712
CREATED:20240918T183105Z
LAST-MODIFIED:20240918T183155Z
UID:10000313-1727827200-1727913599@cns.nbed.ca
SUMMARY:Wednesday Free Lunch Begins
DESCRIPTION:
URL:https://cns.nbed.ca/calendar/wed-free-lunch-begins/
END:VEVENT
BEGIN:VEVENT
DTSTART;TZID=America/Moncton:20241014T120000
DTEND;TZID=America/Moncton:20241014T120000
DTSTAMP:20260420T143712
CREATED:20240716T143243Z
LAST-MODIFIED:20240716T143245Z
UID:10000275-1728907200-1728907200@cns.nbed.ca
SUMMARY:No School - Thanksgiving Day
DESCRIPTION:
URL:https://cns.nbed.ca/calendar/no-school-thanksgiving-day/
END:VEVENT
BEGIN:VEVENT
DTSTART;TZID=America/Moncton:20241015T080000
DTEND;TZID=America/Moncton:20241018T160000
DTSTAMP:20260420T143712
CREATED:20240716T144625Z
LAST-MODIFIED:20240716T144626Z
UID:10000276-1728979200-1729267200@cns.nbed.ca
SUMMARY:Pre-Kindergarten Registration
DESCRIPTION:If you have a child that will be starting Kindergarten in September 2025\, please register them this week so we can start planning for next school year.
URL:https://cns.nbed.ca/calendar/pre-kindergarten-registration/
END:VEVENT
BEGIN:VEVENT
DTSTART;TZID=America/Moncton:20241017T000000
DTEND;TZID=America/Moncton:20241017T235959
DTSTAMP:20260420T143712
CREATED:20240918T183018Z
LAST-MODIFIED:20240918T183020Z
UID:10000312-1729123200-1729209599@cns.nbed.ca
SUMMARY:Picture Day
DESCRIPTION:
URL:https://cns.nbed.ca/calendar/picture-day-3/
END:VEVENT
BEGIN:VEVENT
DTSTART;TZID=America/Moncton:20241025T120000
DTEND;TZID=America/Moncton:20241025T120000
DTSTAMP:20260420T143712
CREATED:20240716T160208Z
LAST-MODIFIED:20240716T160210Z
UID:10000300-1729857600-1729857600@cns.nbed.ca
SUMMARY:Whole School Half Day
DESCRIPTION:
URL:https://cns.nbed.ca/calendar/whole-school-half-day-3/
CATEGORIES:Current Students
END:VEVENT
BEGIN:VEVENT
DTSTART;TZID=America/Moncton:20241030T180000
DTEND;TZID=America/Moncton:20241030T200000
DTSTAMP:20260420T143712
CREATED:20241028T173430Z
LAST-MODIFIED:20241028T173431Z
UID:10000314-1730311200-1730318400@cns.nbed.ca
SUMMARY:Haunted Walk at Pines
DESCRIPTION:
URL:https://cns.nbed.ca/calendar/haunted-walk-at-pines/
CATEGORIES:Current Students
END:VEVENT
END:VCALENDAR