BEGIN:VCALENDAR
VERSION:2.0
PRODID:-//Cambridge-Narrows Community School - ECPv6.15.20//NONSGML v1.0//EN
CALSCALE:GREGORIAN
METHOD:PUBLISH
X-ORIGINAL-URL:https://cns.nbed.ca
X-WR-CALDESC:Events for Cambridge-Narrows Community School
REFRESH-INTERVAL;VALUE=DURATION:PT1H
X-Robots-Tag:noindex
X-PUBLISHED-TTL:PT1H
BEGIN:VTIMEZONE
TZID:America/Moncton
BEGIN:DAYLIGHT
TZOFFSETFROM:-0400
TZOFFSETTO:-0300
TZNAME:ADT
DTSTART:20230312T060000
END:DAYLIGHT
BEGIN:STANDARD
TZOFFSETFROM:-0300
TZOFFSETTO:-0400
TZNAME:AST
DTSTART:20231105T050000
END:STANDARD
BEGIN:DAYLIGHT
TZOFFSETFROM:-0400
TZOFFSETTO:-0300
TZNAME:ADT
DTSTART:20240310T060000
END:DAYLIGHT
BEGIN:STANDARD
TZOFFSETFROM:-0300
TZOFFSETTO:-0400
TZNAME:AST
DTSTART:20241103T050000
END:STANDARD
BEGIN:DAYLIGHT
TZOFFSETFROM:-0400
TZOFFSETTO:-0300
TZNAME:ADT
DTSTART:20250309T060000
END:DAYLIGHT
BEGIN:STANDARD
TZOFFSETFROM:-0300
TZOFFSETTO:-0400
TZNAME:AST
DTSTART:20251102T050000
END:STANDARD
END:VTIMEZONE
BEGIN:VEVENT
DTSTART;TZID=America/Moncton:20241107T103000
DTEND;TZID=America/Moncton:20241107T103000
DTSTAMP:20260420T130348
CREATED:20241028T175500Z
LAST-MODIFIED:20241028T175502Z
UID:10000315-1730975400-1730975400@cns.nbed.ca
SUMMARY:Remembrance Day Ceremony
DESCRIPTION:
URL:https://cns.nbed.ca/calendar/remembrance-day-ceremony-2/
CATEGORIES:Current Students
END:VEVENT
BEGIN:VEVENT
DTSTART;TZID=America/Moncton:20241108T120000
DTEND;TZID=America/Moncton:20241108T120000
DTSTAMP:20260420T130348
CREATED:20240716T144721Z
LAST-MODIFIED:20240716T144723Z
UID:10000277-1731067200-1731067200@cns.nbed.ca
SUMMARY:No School - PL Day
DESCRIPTION:
URL:https://cns.nbed.ca/calendar/no-school-pl-day-5/
CATEGORIES:Current Students
END:VEVENT
BEGIN:VEVENT
DTSTART;TZID=America/Moncton:20241111T120000
DTEND;TZID=America/Moncton:20241111T120000
DTSTAMP:20260420T130348
CREATED:20240716T144810Z
LAST-MODIFIED:20240716T144811Z
UID:10000278-1731326400-1731326400@cns.nbed.ca
SUMMARY:No School - Remembrance Day
DESCRIPTION:
URL:https://cns.nbed.ca/calendar/no-school-remembrance-day/
CATEGORIES:Current Students
END:VEVENT
BEGIN:VEVENT
DTSTART;TZID=America/Moncton:20241112T084500
DTEND;TZID=America/Moncton:20241112T084500
DTSTAMP:20260420T130348
CREATED:20241028T180058Z
LAST-MODIFIED:20241028T180100Z
UID:10000316-1731401100-1731401100@cns.nbed.ca
SUMMARY:Picture Retake Day
DESCRIPTION:
URL:https://cns.nbed.ca/calendar/picture-retake-day/
CATEGORIES:Current Students
END:VEVENT
BEGIN:VEVENT
DTSTART;TZID=America/Moncton:20241112T150000
DTEND;TZID=America/Moncton:20241112T150000
DTSTAMP:20260420T130348
CREATED:20240716T145004Z
LAST-MODIFIED:20240716T145006Z
UID:10000279-1731423600-1731423600@cns.nbed.ca
SUMMARY:Grade 9-12 Report Cards Issued
DESCRIPTION:
URL:https://cns.nbed.ca/calendar/grade-9-12-report-cards-issued/
CATEGORIES:Current Students
END:VEVENT
BEGIN:VEVENT
DTSTART;TZID=America/Moncton:20241114T120000
DTEND;TZID=America/Moncton:20241116T120000
DTSTAMP:20260420T130348
CREATED:20241028T184557Z
LAST-MODIFIED:20241028T184559Z
UID:10000317-1731585600-1731758400@cns.nbed.ca
SUMMARY:High School Basketball Tip-Off Tournament
DESCRIPTION:
URL:https://cns.nbed.ca/calendar/high-school-basketball-tip-off-tournament/
CATEGORIES:Current Students
END:VEVENT
BEGIN:VEVENT
DTSTART;TZID=America/Moncton:20241119T083000
DTEND;TZID=America/Moncton:20241119T083000
DTSTAMP:20260420T130348
CREATED:20241029T151425Z
LAST-MODIFIED:20241029T151426Z
UID:10000318-1732005000-1732005000@cns.nbed.ca
SUMMARY:Immunizations - Gr 7 & 9
DESCRIPTION:
URL:https://cns.nbed.ca/calendar/immunizations-gr-7-9/
CATEGORIES:Current Students
END:VEVENT
BEGIN:VEVENT
DTSTART;TZID=America/Moncton:20241120T183000
DTEND;TZID=America/Moncton:20241120T183000
DTSTAMP:20260420T130348
CREATED:20241029T151530Z
LAST-MODIFIED:20241029T151532Z
UID:10000319-1732127400-1732127400@cns.nbed.ca
SUMMARY:Home & School Meeting
DESCRIPTION:
URL:https://cns.nbed.ca/calendar/home-school-meeting/
CATEGORIES:About our School
END:VEVENT
BEGIN:VEVENT
DTSTART;TZID=America/Moncton:20241121T170000
DTEND;TZID=America/Moncton:20241121T190000
DTSTAMP:20260420T130348
CREATED:20241029T151811Z
LAST-MODIFIED:20241029T151812Z
UID:10000320-1732208400-1732215600@cns.nbed.ca
SUMMARY:Parent Teacher - HIGH SCHOOL ONLY
DESCRIPTION:
URL:https://cns.nbed.ca/calendar/parent-teacher-high-school-only/
CATEGORIES:Current Students
END:VEVENT
BEGIN:VEVENT
DTSTART;TZID=America/Moncton:20241121T183000
DTEND;TZID=America/Moncton:20241121T183000
DTSTAMP:20260420T130348
CREATED:20241029T151856Z
LAST-MODIFIED:20241029T151858Z
UID:10000321-1732213800-1732213800@cns.nbed.ca
SUMMARY:PSSC Meeting - online
DESCRIPTION:
URL:https://cns.nbed.ca/calendar/pssc-meeting-online/
CATEGORIES:Current Students
END:VEVENT
BEGIN:VEVENT
DTSTART;TZID=America/Moncton:20241122T120000
DTEND;TZID=America/Moncton:20241122T120000
DTSTAMP:20260420T130348
CREATED:20240716T145057Z
LAST-MODIFIED:20240716T145059Z
UID:10000280-1732276800-1732276800@cns.nbed.ca
SUMMARY:No School
DESCRIPTION:
URL:https://cns.nbed.ca/calendar/no-school/
CATEGORIES:Current Students
END:VEVENT
BEGIN:VEVENT
DTSTART;TZID=America/Moncton:20241122T130000
DTEND;TZID=America/Moncton:20241122T150000
DTSTAMP:20260420T130348
CREATED:20241029T151953Z
LAST-MODIFIED:20241029T151954Z
UID:10000322-1732280400-1732287600@cns.nbed.ca
SUMMARY:Parent Teacher - HIGH SCHOOL ONLY
DESCRIPTION:
URL:https://cns.nbed.ca/calendar/parent-teacher-high-school-only-2/
CATEGORIES:Current Students
END:VEVENT
END:VCALENDAR