BEGIN:VCALENDAR
VERSION:2.0
PRODID:-//Cambridge-Narrows Community School - ECPv6.15.20//NONSGML v1.0//EN
CALSCALE:GREGORIAN
METHOD:PUBLISH
X-WR-CALNAME:Cambridge-Narrows Community School
X-ORIGINAL-URL:https://cns.nbed.ca
X-WR-CALDESC:Events for Cambridge-Narrows Community School
REFRESH-INTERVAL;VALUE=DURATION:PT1H
X-Robots-Tag:noindex
X-PUBLISHED-TTL:PT1H
BEGIN:VTIMEZONE
TZID:America/Moncton
BEGIN:DAYLIGHT
TZOFFSETFROM:-0400
TZOFFSETTO:-0300
TZNAME:ADT
DTSTART:20230312T060000
END:DAYLIGHT
BEGIN:STANDARD
TZOFFSETFROM:-0300
TZOFFSETTO:-0400
TZNAME:AST
DTSTART:20231105T050000
END:STANDARD
BEGIN:DAYLIGHT
TZOFFSETFROM:-0400
TZOFFSETTO:-0300
TZNAME:ADT
DTSTART:20240310T060000
END:DAYLIGHT
BEGIN:STANDARD
TZOFFSETFROM:-0300
TZOFFSETTO:-0400
TZNAME:AST
DTSTART:20241103T050000
END:STANDARD
BEGIN:DAYLIGHT
TZOFFSETFROM:-0400
TZOFFSETTO:-0300
TZNAME:ADT
DTSTART:20250309T060000
END:DAYLIGHT
BEGIN:STANDARD
TZOFFSETFROM:-0300
TZOFFSETTO:-0400
TZNAME:AST
DTSTART:20251102T050000
END:STANDARD
END:VTIMEZONE
BEGIN:VEVENT
DTSTART;TZID=America/Moncton:20241202T150000
DTEND;TZID=America/Moncton:20241202T150000
DTSTAMP:20260420T113513
CREATED:20240716T145158Z
LAST-MODIFIED:20240716T145200Z
UID:10000281-1733151600-1733151600@cns.nbed.ca
SUMMARY:K-8 Report Cards Issued
DESCRIPTION:
URL:https://cns.nbed.ca/calendar/k-8-report-cards-issued/
CATEGORIES:Current Students
END:VEVENT
BEGIN:VEVENT
DTSTART;TZID=America/Moncton:20241205T170000
DTEND;TZID=America/Moncton:20241205T190000
DTSTAMP:20260420T113513
CREATED:20241029T152153Z
LAST-MODIFIED:20241029T152154Z
UID:10000323-1733418000-1733425200@cns.nbed.ca
SUMMARY:Parent Teacher - K-8 ONLY
DESCRIPTION:
URL:https://cns.nbed.ca/calendar/parent-teacher-k-8-only/
CATEGORIES:Current Students
END:VEVENT
BEGIN:VEVENT
DTSTART;TZID=America/Moncton:20241206T120000
DTEND;TZID=America/Moncton:20241206T120000
DTSTAMP:20260420T113513
CREATED:20240716T145304Z
LAST-MODIFIED:20240716T145305Z
UID:10000282-1733486400-1733486400@cns.nbed.ca
SUMMARY:K-8 ONLY - No School
DESCRIPTION:
URL:https://cns.nbed.ca/calendar/k-8-only-no-school/
CATEGORIES:Current Students
END:VEVENT
BEGIN:VEVENT
DTSTART;TZID=America/Moncton:20241206T130000
DTEND;TZID=America/Moncton:20241206T150000
DTSTAMP:20260420T113513
CREATED:20241029T152305Z
LAST-MODIFIED:20241029T152307Z
UID:10000324-1733490000-1733497200@cns.nbed.ca
SUMMARY:Parent Teacher - K-8 ONLY
DESCRIPTION:
URL:https://cns.nbed.ca/calendar/parent-teacher-k-8-only-2/
CATEGORIES:Current Students
END:VEVENT
BEGIN:VEVENT
DTSTART;TZID=America/Moncton:20241211T130000
DTEND;TZID=America/Moncton:20241211T130000
DTSTAMP:20260420T113513
CREATED:20241210T143941Z
LAST-MODIFIED:20241210T143942Z
UID:10000334-1733922000-1733922000@cns.nbed.ca
SUMMARY:Holiday Concert - Dress Rehearsal
DESCRIPTION:
URL:https://cns.nbed.ca/calendar/holiday-concert-dress-rehearsal/
END:VEVENT
BEGIN:VEVENT
DTSTART;TZID=America/Moncton:20241211T180000
DTEND;TZID=America/Moncton:20241211T180000
DTSTAMP:20260420T113513
CREATED:20241029T152527Z
LAST-MODIFIED:20241120T143532Z
UID:10000325-1733940000-1733940000@cns.nbed.ca
SUMMARY:Holiday Concert
DESCRIPTION:
URL:https://cns.nbed.ca/calendar/holiday-concert/
CATEGORIES:Current Students
END:VEVENT
BEGIN:VEVENT
DTSTART;TZID=America/Moncton:20241212T180000
DTEND;TZID=America/Moncton:20241212T180000
DTSTAMP:20260420T113513
CREATED:20241029T152657Z
LAST-MODIFIED:20241120T143627Z
UID:10000326-1734026400-1734026400@cns.nbed.ca
SUMMARY:Holiday Concert - Storm Date
DESCRIPTION:
URL:https://cns.nbed.ca/calendar/holiday-concert-storm-date/
CATEGORIES:Current Students
END:VEVENT
BEGIN:VEVENT
DTSTART;TZID=America/Moncton:20241216T090000
DTEND;TZID=America/Moncton:20241217T150000
DTSTAMP:20260420T113513
CREATED:20241203T125009Z
LAST-MODIFIED:20241203T125011Z
UID:10000333-1734339600-1734447600@cns.nbed.ca
SUMMARY:Elementary Holiday Shopping
DESCRIPTION:
URL:https://cns.nbed.ca/calendar/elementary-holiday-shopping/
END:VEVENT
BEGIN:VEVENT
DTSTART;TZID=America/Moncton:20241220T120000
DTEND;TZID=America/Moncton:20241220T120000
DTSTAMP:20260420T113513
CREATED:20240716T145400Z
LAST-MODIFIED:20240716T145402Z
UID:10000283-1734696000-1734696000@cns.nbed.ca
SUMMARY:Last Day of Classes
DESCRIPTION:
URL:https://cns.nbed.ca/calendar/last-day-of-classes-2/
CATEGORIES:Current Students
END:VEVENT
END:VCALENDAR