BEGIN:VCALENDAR
VERSION:2.0
PRODID:-//Cambridge-Narrows Community School - ECPv6.15.20//NONSGML v1.0//EN
CALSCALE:GREGORIAN
METHOD:PUBLISH
X-WR-CALNAME:Cambridge-Narrows Community School
X-ORIGINAL-URL:https://cns.nbed.ca
X-WR-CALDESC:Events for Cambridge-Narrows Community School
REFRESH-INTERVAL;VALUE=DURATION:PT1H
X-Robots-Tag:noindex
X-PUBLISHED-TTL:PT1H
BEGIN:VTIMEZONE
TZID:America/Moncton
BEGIN:DAYLIGHT
TZOFFSETFROM:-0400
TZOFFSETTO:-0300
TZNAME:ADT
DTSTART:20240310T060000
END:DAYLIGHT
BEGIN:STANDARD
TZOFFSETFROM:-0300
TZOFFSETTO:-0400
TZNAME:AST
DTSTART:20241103T050000
END:STANDARD
BEGIN:DAYLIGHT
TZOFFSETFROM:-0400
TZOFFSETTO:-0300
TZNAME:ADT
DTSTART:20250309T060000
END:DAYLIGHT
BEGIN:STANDARD
TZOFFSETFROM:-0300
TZOFFSETTO:-0400
TZNAME:AST
DTSTART:20251102T050000
END:STANDARD
BEGIN:DAYLIGHT
TZOFFSETFROM:-0400
TZOFFSETTO:-0300
TZNAME:ADT
DTSTART:20260308T060000
END:DAYLIGHT
BEGIN:STANDARD
TZOFFSETFROM:-0300
TZOFFSETTO:-0400
TZNAME:AST
DTSTART:20261101T050000
END:STANDARD
END:VTIMEZONE
BEGIN:VEVENT
DTSTART;TZID=America/Moncton:20250217T120000
DTEND;TZID=America/Moncton:20250217T120000
DTSTAMP:20260420T085415
CREATED:20240716T154411Z
LAST-MODIFIED:20240716T154412Z
UID:10000288-1739793600-1739793600@cns.nbed.ca
SUMMARY:No School - Family Day
DESCRIPTION:
URL:https://cns.nbed.ca/calendar/no-school-family-day/
CATEGORIES:Current Students
END:VEVENT
BEGIN:VEVENT
DTSTART;TZID=America/Moncton:20250219T183000
DTEND;TZID=America/Moncton:20250219T183000
DTSTAMP:20260420T085415
CREATED:20241029T154124Z
LAST-MODIFIED:20241029T154125Z
UID:10000329-1739989800-1739989800@cns.nbed.ca
SUMMARY:Home & School Meeting (online)
DESCRIPTION:
URL:https://cns.nbed.ca/calendar/home-school-meeting-online-2/
CATEGORIES:Current Students
END:VEVENT
BEGIN:VEVENT
DTSTART;TZID=America/Moncton:20250220T183000
DTEND;TZID=America/Moncton:20250220T183000
DTSTAMP:20260420T085415
CREATED:20241029T154352Z
LAST-MODIFIED:20241029T154354Z
UID:10000330-1740076200-1740076200@cns.nbed.ca
SUMMARY:PSSC Meeting (online)
DESCRIPTION:
URL:https://cns.nbed.ca/calendar/pssc-meeting-online-3/
CATEGORIES:Current Students
END:VEVENT
BEGIN:VEVENT
DTSTART;TZID=America/Moncton:20250228T120000
DTEND;TZID=America/Moncton:20250228T120000
DTSTAMP:20260420T085415
CREATED:20240716T160302Z
LAST-MODIFIED:20240716T160304Z
UID:10000301-1740744000-1740744000@cns.nbed.ca
SUMMARY:Whole School Half Day
DESCRIPTION:
URL:https://cns.nbed.ca/calendar/whole-school-half-day-4/
CATEGORIES:Current Students
END:VEVENT
END:VCALENDAR