BEGIN:VCALENDAR
VERSION:2.0
PRODID:-//Cambridge-Narrows Community School - ECPv6.15.20//NONSGML v1.0//EN
CALSCALE:GREGORIAN
METHOD:PUBLISH
X-ORIGINAL-URL:https://cns.nbed.ca
X-WR-CALDESC:Events for Cambridge-Narrows Community School
REFRESH-INTERVAL;VALUE=DURATION:PT1H
X-Robots-Tag:noindex
X-PUBLISHED-TTL:PT1H
BEGIN:VTIMEZONE
TZID:America/Moncton
BEGIN:DAYLIGHT
TZOFFSETFROM:-0400
TZOFFSETTO:-0300
TZNAME:ADT
DTSTART:20240310T060000
END:DAYLIGHT
BEGIN:STANDARD
TZOFFSETFROM:-0300
TZOFFSETTO:-0400
TZNAME:AST
DTSTART:20241103T050000
END:STANDARD
BEGIN:DAYLIGHT
TZOFFSETFROM:-0400
TZOFFSETTO:-0300
TZNAME:ADT
DTSTART:20250309T060000
END:DAYLIGHT
BEGIN:STANDARD
TZOFFSETFROM:-0300
TZOFFSETTO:-0400
TZNAME:AST
DTSTART:20251102T050000
END:STANDARD
BEGIN:DAYLIGHT
TZOFFSETFROM:-0400
TZOFFSETTO:-0300
TZNAME:ADT
DTSTART:20260308T060000
END:DAYLIGHT
BEGIN:STANDARD
TZOFFSETFROM:-0300
TZOFFSETTO:-0400
TZNAME:AST
DTSTART:20261101T050000
END:STANDARD
END:VTIMEZONE
BEGIN:VEVENT
DTSTART;TZID=America/Moncton:20250303T120000
DTEND;TZID=America/Moncton:20250307T120000
DTSTAMP:20260420T071818
CREATED:20240716T154641Z
LAST-MODIFIED:20240716T154642Z
UID:10000289-1741003200-1741348800@cns.nbed.ca
SUMMARY:March Break - No School
DESCRIPTION:
URL:https://cns.nbed.ca/calendar/march-break-no-school-2/
CATEGORIES:Current Students
END:VEVENT
BEGIN:VEVENT
DTSTART;TZID=America/Moncton:20250319T183000
DTEND;TZID=America/Moncton:20250319T183000
DTSTAMP:20260420T071818
CREATED:20241029T154648Z
LAST-MODIFIED:20241029T154650Z
UID:10000331-1742409000-1742409000@cns.nbed.ca
SUMMARY:Home & School Meeting (online)
DESCRIPTION:
URL:https://cns.nbed.ca/calendar/home-school-meeting-online-3/
CATEGORIES:Current Students
END:VEVENT
BEGIN:VEVENT
DTSTART;TZID=America/Moncton:20250320T183000
DTEND;TZID=America/Moncton:20250320T183000
DTSTAMP:20260420T071818
CREATED:20241029T155108Z
LAST-MODIFIED:20241029T155110Z
UID:10000332-1742495400-1742495400@cns.nbed.ca
SUMMARY:PSSC Meeting (online)
DESCRIPTION:
URL:https://cns.nbed.ca/calendar/pssc-meeting-online-4/
CATEGORIES:Current Students
END:VEVENT
BEGIN:VEVENT
DTSTART;TZID=America/Moncton:20250328T080000
DTEND;TZID=America/Moncton:20250328T170000
DTSTAMP:20260420T071818
CREATED:20240716T154859Z
LAST-MODIFIED:20240716T154901Z
UID:10000290-1743148800-1743181200@cns.nbed.ca
SUMMARY:K-8 ONLY - No School
DESCRIPTION:
URL:https://cns.nbed.ca/calendar/k-8-only-no-school-2/
CATEGORIES:Current Students
END:VEVENT
END:VCALENDAR