BEGIN:VCALENDAR
VERSION:2.0
PRODID:-//Cambridge-Narrows Community School - ECPv6.15.20//NONSGML v1.0//EN
CALSCALE:GREGORIAN
METHOD:PUBLISH
X-WR-CALNAME:Cambridge-Narrows Community School
X-ORIGINAL-URL:https://cns.nbed.ca
X-WR-CALDESC:Events for Cambridge-Narrows Community School
REFRESH-INTERVAL;VALUE=DURATION:PT1H
X-Robots-Tag:noindex
X-PUBLISHED-TTL:PT1H
BEGIN:VTIMEZONE
TZID:America/Moncton
BEGIN:DAYLIGHT
TZOFFSETFROM:-0400
TZOFFSETTO:-0300
TZNAME:ADT
DTSTART:20240310T060000
END:DAYLIGHT
BEGIN:STANDARD
TZOFFSETFROM:-0300
TZOFFSETTO:-0400
TZNAME:AST
DTSTART:20241103T050000
END:STANDARD
BEGIN:DAYLIGHT
TZOFFSETFROM:-0400
TZOFFSETTO:-0300
TZNAME:ADT
DTSTART:20250309T060000
END:DAYLIGHT
BEGIN:STANDARD
TZOFFSETFROM:-0300
TZOFFSETTO:-0400
TZNAME:AST
DTSTART:20251102T050000
END:STANDARD
BEGIN:DAYLIGHT
TZOFFSETFROM:-0400
TZOFFSETTO:-0300
TZNAME:ADT
DTSTART:20260308T060000
END:DAYLIGHT
BEGIN:STANDARD
TZOFFSETFROM:-0300
TZOFFSETTO:-0400
TZNAME:AST
DTSTART:20261101T050000
END:STANDARD
END:VTIMEZONE
BEGIN:VEVENT
DTSTART;TZID=America/Moncton:20250407T120000
DTEND;TZID=America/Moncton:20250407T120000
DTSTAMP:20260420T055811
CREATED:20240716T154944Z
LAST-MODIFIED:20240716T154946Z
UID:10000291-1744027200-1744027200@cns.nbed.ca
SUMMARY:K-12 Report Cards Issued
DESCRIPTION:
URL:https://cns.nbed.ca/calendar/k-12-report-cards-issued/
CATEGORIES:Current Students
END:VEVENT
BEGIN:VEVENT
DTSTART;TZID=America/Moncton:20250411T120000
DTEND;TZID=America/Moncton:20250411T120000
DTSTAMP:20260420T055811
CREATED:20240716T155103Z
LAST-MODIFIED:20240716T155105Z
UID:10000292-1744372800-1744372800@cns.nbed.ca
SUMMARY:No School
DESCRIPTION:
URL:https://cns.nbed.ca/calendar/no-school-2/
CATEGORIES:Current Students
END:VEVENT
BEGIN:VEVENT
DTSTART;TZID=America/Moncton:20250418T120000
DTEND;TZID=America/Moncton:20250418T120000
DTSTAMP:20260420T055811
CREATED:20240716T155218Z
LAST-MODIFIED:20240716T155220Z
UID:10000293-1744977600-1744977600@cns.nbed.ca
SUMMARY:No School - Good Friday
DESCRIPTION:
URL:https://cns.nbed.ca/calendar/no-school-good-friday/
CATEGORIES:Current Students
END:VEVENT
BEGIN:VEVENT
DTSTART;TZID=America/Moncton:20250421T120000
DTEND;TZID=America/Moncton:20250421T120000
DTSTAMP:20260420T055811
CREATED:20240716T155255Z
LAST-MODIFIED:20240716T155257Z
UID:10000294-1745236800-1745236800@cns.nbed.ca
SUMMARY:No School - Easter Monday
DESCRIPTION:
URL:https://cns.nbed.ca/calendar/no-school-easter-monday/
CATEGORIES:Current Students
END:VEVENT
BEGIN:VEVENT
DTSTART;TZID=America/Moncton:20250425T120000
DTEND;TZID=America/Moncton:20250425T120000
DTSTAMP:20260420T055811
CREATED:20240716T160436Z
LAST-MODIFIED:20240716T160437Z
UID:10000302-1745582400-1745582400@cns.nbed.ca
SUMMARY:Whole School Half Day
DESCRIPTION:
URL:https://cns.nbed.ca/calendar/whole-school-half-day-5/
END:VEVENT
END:VCALENDAR